Workbook
Name _ftn1: Auswertung!$A$3
Name _ftn1: Signifikanz!#REF!
Name _ftnref1: Auswertung!#REF!
Name _ftnref1: Signifikanz!#REF!
Name Daten: #REF!
Name Daten: #REF!
Name Daten: #REF!
Name Daten: #REF!
Name Elemente: [1]Parameter2!$B$3:$B$18
Name MBlei: #REF!
Name MBlei: #REF!
Name MBlei: #REF!
Name MBlei: #REF!
Name OLE_LINK1: 'Allergene - Ergebniserfassung'!$A$24
Name OLE_LINK1: Ausfüllhinweise!$A$18
Name Parameter2: #REF!
Name Parameter2: #REF!
Name Parameter2: Bezugsquellen!$B$6:$B$14
Name Parameter2: #REF!
Name Parameter2: #REF!
Name Parameter2: Lactose!$B$12:$B$24
Name Parameter2: #REF!
Name Parameter2alt: #REF!
Name Parameter2alt: #REF!
Name Parameter2alt: #REF!
Name Parameter2alt: #REF!
Name test: [2]Parameter2!$B$3:$B$18
Name test: [2]Parameter2!$B$3:$B$18
Name test: [3]Parameter2!$B$3:$B$18
Name test: [4]Parameter2!$B$3:$B$18
Name test: [5]Parameter2!$B$3:$B$18
Name test: [2]Parameter2!$B$3:$B$18
Name test: [4]Parameter2!$B$3:$B$18
Name test1: [4]Parameter2!$B$3:$B$18
Name test1: [4]Parameter2!$B$3:$B$18
Name test1: [6]Parameter2!$B$3:$B$18

Sheet Auswertung
A1: Hinweise zur Auswertung
A2: Die Beurteilung quantitativer Laborergebnisse erfolgt durch Z-Scores, die möglichst über die Vergleichsstandardabweichung des jeweiligen Standardverfahrens aus einem Normververfahren berechnet werden. Zusätzlich werden für den jeweiligen Analyten Z-Scores über die nach der Horwitz- funktion ermittelte Zielstandardabweichung sowie über die robusten Standardabweichungen nach Algorithmus A berechnet.
A3: Mit abnehmenden Gehalten von Analyten in der Probe steigt die über die Horwitzfunktion berechnete Zielstandardabweichung stark an. So beträgt z.B. die relative Standardabweichung nach Horwitz 10 % bei einem Analytgehalt von 23 mg/kg und bereits 22,6 % bei einem Analytgehalt von 100 µg/kg.
A4: Zur Vermeidung zu „breiter“ Beurteilungszonen wird deshalb bei der Auswertung bei allen Parametern der Wert der Zielstandardabweichung auf maximal 22 % vom Wert des Medians beschränkt.
A5: Zunächst werden alle mitgeteilten Laborergebnisse berücksichtigt und die darüber berechneten statistischen Kenndaten für die Parameter aufgeführt.
A6: Zur Ermittlung der endgültigen statistischen Kenndaten werden bei allen in den Proben enthaltenen Wirkstoffe Zweitberechnungen durchgeführt. Bei diesen Zweitberechnungen bleiben generell die Ergebnisdaten von allen Laboratorien unberücksichtigt, deren Ergebnisse um mehr als 5 Zielstandardabweichungen (5 Z-Scores) vom Median des Analyten abweichen.
A7: Darüber hinaus bleiben bei allen Parametern zusätzlich alle Ergebnisse unberücksichtigt, die um mehr als 50 % vom Median abweichen und bei denen gleichzeitig der Betrag des Z-Score größer als 3 ist. Diese Regelung greift bei allen Parametern mit Analytgehalten unter 23 mg/kg.

Sheet Datenübernahme
A1: Erläuterungen zur Weiterverarbeitung Ihrer Daten
A2: Diese Tabellen wurden so aufgebaut, dass die Daten automatisiert in unser Auswerteprogramm übernommen werden können. Die Tabellen dürfen daher keinesfalls im Aufbau verändert werden, da dann ein automatisiertes Auslesen der mitgeteilten Daten nicht mehr möglich wäre.
A3: Aus diesem Grund wurden die Tabellen gegen Veränderungen geschützt. Eingaben oder auch die Auswahl von Eigenschaften sind nur an wenigen Stellen nötig. Diese Stellen sind gelb hinterlegt.
A4: Da das Ausführen von Macros eine potentielle Gefährdung von Computersystemen bedeuten kann, gehen wir davon aus, dass ausführbare Macros in zahlreichen Fällen von den entsprechenden System-Administratoren unterdrückt werden. Deshalb wurde auf die Verwendung von Macros bei der Erstellung der Tabellen zur Ergebniserfassung komplett verzichtet, obwohl damit ein komfortableres Arbeiten möglich wäre.
A5: Beim Eingang Ihrer eMail wird diese von unserem System automatisch weiterverarbeitet, wobei einige Plausibilitäten (z.B. Vollständigkeit der Absenderangabe oder Kennzeichnung als Update bei erneuter Dateneinsendung) überprüft werden. Im Anschluss an diese Prüfung erhalten Sie automatisiert eine eMail-Antwort. Darin werden Sie darüber informiert, ob Ihre Daten prinzipiell weiterverarbeitet werden können oder ob benötigte Einträge fehlen und Sie Ihre Ergebnisse nach Ergänzung der fehlenden Angaben erneut einsenden sollen. Eine Prüfung auf Vollständigkeit von Ergebnisangaben (sind überhaupt Ergebnnisdaten vorhanden?) oder deren Angabe in den vorgegebenen Maßeinheiten wird zu diesem Zeitpunkt nicht vorgenommen.
A6: Sollten Sie noch vor dem Ende der Ergebnisannahme bemerken, dass in Ihrer Ergebnistabelle Fehler enthalten sind, so senden Sie einfach eine korrigierte Version an die Adresse ergebnisse@lvus.de. Kennzeichnen Sie in diesem Fall Ihre Tabelle als Aktualisierung, da ansonsten das System die Annahme der Daten zurückweist ("es sind ja bereits Daten von Ihnen vorhanden"). Ihre aktualiserte Ergebnistabelle muss vollständig ausgefüllt sein und insbesondere alle Ergebnisdaten der Vorversion enthalten, da bei einer Kennzeichung als Aktualiserung (Update) die zuvor eingesandte Ergebnistabelle durch die Aktualisierung vollständig ersetzt wird.
A7: Ihre Daten werden wie mitgeteilt zur Auswertung verwendet. Selbst offensichtliche Fehler, wie - Tippfehler, - Übertragungsfehler in die Ergebniserfassungstabelle, - Angaben in einer anderen, von der Vorgabe abweichenden Maßeinheit werden zur Auswertung unverändert, also ohne Änderung übernommen und führen dann zu schlechten Bewertungen. Daher sollten Sie Ihre Eingaben sorgfältig durchführen und dabei insbesondere auch überprüfen, ob Ihre laborüblichen Maßeinheiten mit denen im Tabellenblatt übereinstimmen.
A8: Nach Ende der Frist zur Ergebnisabgabe sind Korrekturen nur noch möglich, falls die Auswertung der Daten noch nicht erfolgt ist. Korrekturen von fehlerhaften Teilnehmerangaben werden nach der Auswertung und insbesondere nach Veröffentlichung des Protokolls nicht mehr durchgeführt.

Sheet Signifikanz
A1: Hinweise zur Signifikanz von Ergebnisangaben
A2: Die Ergebnisangaben müssen in der/den vorgegebenen Maßeinheiten erfolgen - Ihre Angaben werden ohne Änderungen zur Auswertung verwendet! Zur Vermeidung von Abweichungen durch bereits im Labor vorgenommene Rundungen werden Sie gebeten, bei jedem Parameter eine bestimmte Anzahl signifikanter Ziffern anzugeben (auch wenn auf Grund Ihrer Validierungsdaten diese Genauigkeit von Ihrem Analysenverfahren nicht eingehalten wird).
A3: Generell gilt: nach ISO 13528 Abschnitt 4.6 sollen Ergebnisse nicht stärker gerundet werden als dem halben Betrag der Wiederholstandardabweichung entspricht.
A4: Beispiele zur Ergebnisangabe: In einer Probe wurde der Gehalt von Mangan bestimmt. Es wurden die aufgeführten rechnerischen Gehalte ermittelt und die Ergebnisangabe soll mit 3 signifikanten Ziffern erfolgen:
A5: Beispielhafter Wert [mg/kg] | B5: Ergebnisangabe mit 3 signifikanten Ziffern [mg/kg]
A6: 1379 | B6: 1380
A7: 179.34 | B7: 179
A8: 80.12 | B8: 80.1
A9: 7.8 | B9: 7.8
A11: 0.07832 | B11: 0.0783

Sheet Ausfüllhinweise
A1: Hinweise zum Erfassen und Einsenden der Untersuchungsergebnisse
A2: Benutzen Sie für die Ergebnisübermittlung diese vordefinierte Tabelle im Excelformat. Die Tabelle steht auch auf unserer Homepage (www.lvus.de) im Bereich „Download“ bereit.
A3: Geben Sie im Register "Kontakt" den Namen, die eMail-Adresse sowie die Telefonnummer der Kontaktperson an, die wir bei Fragen kontaktieren können. Nach Fertigstellung des Protokolls wird ausschließlich an die dort angegebenen eMail-Adressen ein Passwort-freies Protokoll im PDF-Format gesendet. An diese Adressen senden wir auch ein Teilnahmezertifikat. Daher wäre zu Sicherstellung des Empfangs von Protokoll und Zertifikat die zusätzliche Angabe einer Funktions-e-Mail-Adresse empfohlen.
A4: Tragen Sie im Register „ErgebnisseMolekular“ unbedingt Ihre Kundennummer und Ihre Postleitzahl ein, da darüber die Identifizierung des Einsenders erfolgt. In die beiden Datenfelder „Kundennummer“ und „Postleitzahl“ dürfen nur Ziffern eingegeben werden.
A5: Die Felder zur Eingabe Ihrer Ergebnisdaten sind nicht mit einer festen Nachkommazahl vordefiniert, um keine Hinweise auf eventuelle Gehalte von Parametern zu geben.
A6: Beachten Sie die Hinweise zu den gültigen (signifikanten) Ziffern bei den Parametern. Die Anzahl der Ziffern ist so zu wählen, dass beide Ergebnisse nur im Ausnahmefall aus iden¬tischen Ziffernfolgen bestehen. In einigen Fällen, z.B. bei Gehalten um 10 %, ist die Vorgabe gültiger Stellen schwierig: Die Ergebnisse „10,16% und 9,94% sind vergleichbar, nicht aber „10,2%“ und „9,94%“. Die Angabe einer zusätzlichen gültigen Stelle ist hier angebracht.
A7: Über Auswahlfelder sind gängige Untersuchungsverfahren bereits vordefiniert, um das Ausfüllen bei den Untersuchungsverfahren zu erleichtern. Sollten Sie ein nicht aufgeführtes Verfahren anwenden, wählen Sie „sonstiges“ aus und tragen Ihr Verfahren dann ein. Sofern weitere Informationen zur Auswertung nötig sind, werden auch gängige Verfahrensprinzipien und/oder Bezugsquellen kommerziell vertriebener Testsätze in ähnlicher Weise vordefiniert.
A8: In zahlreichen Fällen wird auch nachgefragt, ob Sie streng nach einem Normverfahren arbeiten. Streng bedeutet, dass Sie ohne prüfrelevante Abweichungen arbeiten. Sollte die Abweichung lediglich die untersuchte Matrix sein (z.B. Fisch anstelle von Brühwurst), dann soll dies nicht als Modifikation gekennzeichnet werden.
A9: Da Ihre eMail automatisch weiterverarbeitet wird, dürfen nur innerhalb der Exceltabelle in vordefinierten Bereichen Kommentare oder Hinweise zu den Proben und durchgeführten Untersuchungen enthalten sein (z.B. im Register „Mitteilungen“).
A10: Senden Sie uns die vollständig ausgefüllte Ergebnisdatei als Anlage im Excelformat per eMail an die Adresse „ergebnisse@lvus.de“. Ihre eMail darf nur eine einzige Anlage enthalten. eingesendete Tabellen verarbeiten. Sofern Ihre internen Datenschutzrichtlinien keinen Versand von Daten im xls(x)-Format erlauben, speichern Sie die versandfertige Tabelle und ändern die Dateiendung von ".xls" bzw. ".xlsx" in ".txt". Senden Sie daraufhin die Datei an edv@lvus.de. Ihre Ergebnisse werden von uns der weiteren Bearbeitung zugeführt.
A11: Nach dem Eingang in unserer Mailbox "ergebnisse@lvus.de" erhalten Sie automatisch eine Benachrichtigung/Bestätigung über den Eingang Ihrer eMail.
A12: Eingegangene eMails werden periodisch (ca. alle 10 Minuten) weiterverarbeitet. Enthält Ihre eMail eine von uns vordefinierte Exceltabelle und sind darin alle Pflichteingaben (Kundennummer, Postleitzahl, ggf. Aktualisierungs-Kennzeichnung) korrekt ausgefüllt, erhalten Sie in einer zweiten eMail Ihre Auswertenummer mitgeteilt. Ansonsten gibt es darin einen Hinweis, warum Ihre Mail nicht verarbeitet werden konnte. Korrigieren/ergänzen Sie in diesen Fällen Ihre Pflichteingabefelder und senden Sie uns Ihre Daten erneut.
A13: Falls Sie nach einer erfolgreichen Übermittlung Ihrer Ergebnisse noch Fehler feststellen, können Sie bis zur Deadline jederzeit noch überarbeitete (oder auch ergänzte) Ergebnisdateien einsenden. Damit unser System Ihre Datei als Aktualisierung akzeptiert, muss zwingend "ja" bei Aktualisierung im Register „Ergebnisse“ ausgewählt werden. Die überarbeitete Excel¬tabelle muss auch alle bei der Auswertung zu berücksichtigenden Einträge enthalten, da die ursprünglich von Ihnen gesendeten Daten vor der Aktualisierung vollständig gelöscht werden.

Sheet Allergene - Ergebniserfassung
A1: Näheres zur Ergebniserfassung bei Allergenen
A2: Die Ergebnisse zu Protein-basierenden sowie zu molekularbiologischen Verfahren werden getrennt erfasst. Bitte teilen Sie je Untersuchungsparameter und Probe maximal ein Untersuchungsergebnis mit. Die beiden Verfahrensgrundlagen werden sowohl getrennt als auch gemeinsam ausgewertet.
A3: Die Ergebnisse zu den nachfolgenden Punkten 1 und 2 werden beurteilt (quantitative Ergebnisse mit Z-Scores) – Ergebnisse zu Punkt 3 werden nur informativ aufgeführt.
A4: 1) Qualitatives (analytisches) Ergebnis: Bei nicht nachweisbaren Parametern wählen Sie bitte „negativ“ und beim Nachweis entsprechend „positiv“ an. Bei zweifelhaften Ergebnissen kreuzen Sie „unsicher“ an.
A5: 2) Semiquantitatives oder quantitatives Ergebnis: Im Falle rein qualitativer Verfahren geben Sie bitte die Konzentration Ihrer Entscheidungsgrenze „positiv/negativ“ mit vorangestelltem „> “ bei „positiv“ und „< “ bei negativ an. Bei „unsicher“ geben Sie die Konzentration Ihrer Entscheidungsgrenze mit vorangestelltem „<>“ an. Bei quantitative Verfahrengeben Sie bitte den in den Proben festgestellten Gehalt wie folgt an. Gehalte >10 mg/kg sollen dabei mit drei und Gehalte < 10 mg/kg mit zwei signifikanten Ziffern angegeben werden.
A6: 3) Beurteilungswert gesichert über- oder unterschritten? Sofern es Ihr Verfahren ermöglicht, geben Sie bitte an, ob unter Berücksichtigung der Messunsicherheit der Beurteilungswert (bei Gluten analog auch zum Grenzwert) des jeweiligen Allergens gesichert überschritten oder unterschritten ist. Liegt das Ergebnis im Streubereich des EU-Beurteilungswerts (Messwert im Bereich Beurteilungswert ± Messunsicherheit), wählen Sie „Streubereich“ aus.
A7: Kodierungen für Verfahrensprinzipien, Bezugsquellen und Analysenverfahren
A8: Die Charakterisierung der Verfahren soll dreistufig in kodierter Form erfolgen:
A9: 1. Zunächst sollen die Verfahren einem Untersuchungsprinzip (z.B. ELISA) zugeordnet werden. | B9: 1. Zunächst sollen die Verfahren einem Untersuchungsprinzip (z.B. ELISA) zugeordnet werden.
A10: 2. Danach soll der Anbieter des eingesetzten Kits/Antikörpers/Primers gelistet werden.
A11: 3. Für weiterführende Angaben (spezielle Extraktionen, Literatur, Verweise auf Methodensammlungen) ist die Spalte „Durchführung“ vorgesehen.
A12: In der zur Ergebniserfassung zur Verfügung gestellten Excel-Tabelle sind gängige Verfahrensprinzipien, Bezugsquellen und Durchführungen bereits aufgeführt, die entweder über Auswahlfelder (Bezugsquellen, DNA-Extraktion bei molku-larbiologischen Verfahren) oder durch direkte Eingabe der entsprechenden Kodierungen (Bezugsquellen, Durchführung) in der Exceltabelle eingegeben werden können.
A13: Beispiel zur Verfahrensangabe
A14: Die Charakterisierung der Verfahren soll dreistufig in kodierter Form erfolgen. Es wurde ein ELISA-Verfahren (Kode 1) mit einem nicht kommerziell beziehbaren Testkit (Kode = 1) zur Prüfung auf Senf eingesetzt und sowohl die Aufarbeitung als auch die Testdurchführung nach einem selbst entwickelten Verfahren durchgeführt. Es ergibt sich folgende Charakterisierung des Verfahrens:

Sheet Allergene Beurteilungswerte
B1: Bei den genannten "Beurteilungswerten" handelt es sich um Werte für die Labore der amtlichen Lebensmittelüberwachung. Sie sollen eine größenordnungsmäßige Orientierung geben, ab welchem Gehalt eines nachgewiesenen, aber nicht gekennzeichneten allergenen Bestandteils (weder im Zutatenverzeichnis noch als Spurenhinweis) die Erstellung eines Prüfberichtes angezeigt sein kann. Im Einzelfall kann dies auch bei Produkten angezeigt sein, bei denen auf das nachgewiesene Allergen in Form einer Spurenkennzeichnung hingewiesen wird. Dieser Prüfbericht enthält eine Empfehlung zur Prüfung, ob der Eintrag des allergenen Bestandteils rezepturmäßig über eine Zutat erfolgte und somit die Kennzeichnungs-Bestimmungen der LMIV nicht eingehalten sind. Es handelt sich bei den genannten Werten angesichts der bestehenden analytischen Messunsicherheit um Orientierungswerte. Wichtiger Hinweis: Die Beurteilungswerte sind nicht für Lebensmittel anwendbar, die mit dem Hinweis "frei von..." oder bedeutungsgleichen Formulierungen gekennzeichnet sind, das ausgelobte Allergen jedoch nachweisbar ist. Es handelt sich bei den genannten Werten angesichts der bestehenden analytischen Messunsicherheit um Orientierungswerte.
B2: Wichtiger Hinweis: Die Beurteilungswerte sind nicht für Lebensmittel anwendbar, die mit dem Hinweis "frei von..." oder bedeutungsgleichen Formulierungen gekennzeichnet sind, das ausgelobte Allergen jedoch nachweisbar ist.
B3: Allergen | C3: als Protein [in mg/kg] | D3: als Lebensmittel (3) [ggf. Spezifizierung des Lebensmittels] [mg/kg] | E3: Umrechnungsfaktor Protein -> Lebensmittel
B4: Weizen | C4: > 50 als Gluten | D4: > 400 | E4: 8
B5: Krebstiere, Garnelen | C5: > 250 | D5: > 2100 [Garnelen, gekocht] | E5: =2100/250 -> 8.4
B6: Fische | C6: > 50 | D6: > 200 [Fischfilet, gedämpft] | E6: 4
B7: Eier | C7: > 20 | D7: > 40 [Volleipulver] | E7: 2
B8: Erdnüsse | C8: > 20 | D8: > 70 | E8: 3.5
B9: Sojabohnen | C9: > 100 | D9: > 250 | E9: 2.5
B10: Milch | C10: > 20 | D10: > 60 [Magermilchpulver, NFDM] | E10: 3
B11: Haselnuss | C11: > 30 | D11: > 200 | E11: =200/30 -> 6.6666667
B12: Cashewnuss | C12: > 10 | D12: > 50 | E12: 5
B13: Pistazie (Empfehlung) | C13: > 10 | D13: > 50 | E13: 5
B14: Walnuss | C14: > 10 | D14: > 70 | E14: 7
B15: Pecannuss (Empfehlung) | C15: > 10 | D15: > 70 | E15: 7
B16: Mandel | C16: > 10 | D16: > 50 | E16: 5
B17: Paranuss | C17: > 10 | D17: > 50 | E17: 5
B18: Macadamianuss | C18: > 10 | D18: > 50 | E18: 5
B19: Queenslandnuss | C19: > 10 | D19: > 50 | E19: 5
B20: Sesamsamen | C20: > 20 | D20: > 100 | E20: 5
B21: Lupinen | C21: > 100 | D21: > 250 | E21: 2.5
B22: Sellerie | C22: > 10 | D22: > 60 [Selleriesaat] | E22: 6
B23: Senf | C23: > 10 | D23: > 40 | E23: 4
B25: Quelle: Anlage zu ALS-Beschluss 2024/93/20
B26: (3) Insbesondere bei der Anwendung von ELISA sind eventuell notwendige Umrechnungen auf die hier genannte Bezugsgröße zu beachten (z.B. aus Angaben im Kit oder über Proteinwerte des Lebensmittels gemäß Literaturangaben). Hier wurden zur Umrechung die Werte aus Souci / Fachmann / Kraut „Die Zusammensetzung der Lebensmittel, Nährwert-Tabellen“ 8., revidierte und ergänzte Auflage (2016) verwendet. Umrechnung bei Sellerie: s. https://fdc.nal.usda.gov/fdc-app.html#/food-details/170920/nutrients

Sheet Kurzanleitung
A44: Eine bebilderte Anleitung zum Ausfüllen der Ergebniserfassungstabelle finden Sie unter
A45: dem nachfolgenden Link:
A46: https://lvus.de/html/pdf/aprotec.php?file=anleitung.pdf

Sheet Kontakt
A1: Kontaktperson | C1: Contact person
A2: Name | C2: Name
A3: eMail | C3: eMail-Address
A4: Telefon (inklusive Vorwahl): | C4: telefone (including country and area code)
A6: Bitte geben Sie den Namen, eMail-Adresse und die Telefonnummer der Person an, die wir bei Rückfragen kontaktieren können. An die aufgeführte(n) eMailadresse(n) wird das Protokoll als Passwort-freie PDF-Datei und später auch das Teilnahmezertifikat gesendet. Gedruckte Auswertungen/Zertifikate werden nicht mehr versendet. Geben Sie zur Sicherheit Ihre eMailadresse unten bei eMail-Kontrolle ein. Unser Ergebnisserver akzeptiert Ihre Ergebnisdatei nur, wenn beide eMailadressen übereinstimmen.
A8: Please enter the name, email address and telephone number of the person we can contact in case of queries. The protocol will be sent to the listed email address(es) as a password-free PDF file. Printed reports will no longer be sent. For security reasons, please enter your e-mail address below under e-mail control. Our result server will only accept your result table if the email addresses in both cells match.
A10: Es wird empfohlen, eine zweite eMail-Adresse in Form eines Funktionspostfaches anzugeben. Dadurch wird sichergestellt, dass die Auswertung auch zugestellt werden kann. Geben Sie hierzu die zweite Adresse getrennt durch ein Semikolon mit nachfolgendem Leerzeichen ein.
A11: Senden Sie uns die vollständig ausgefüllte Ergebnisdatei als Anlage im Excelformat per eMail an die Adresse „ergebnisse@lvus.de“. Ihre eMail darf nur eine einzige Anlage enthalten. Ansonsten kann das Mail nicht verarbeitet werden. Sofern Ihre internen Datenschutzrichtlinien keinen Versand von Daten im xls(x)-Format erlauben, speichern Sie die versandfertige Tabelle und ändern die Dateiendung von ".xls" bzw. ".xlsx" in ".txt". Senden Sie daraufhin die Datei an edv@lvus.de. Ihre Ergebnisse werden von uns der weiteren Bearbeitung zugeführt.
A12: Beispiel für die Eingabe von 2 eMail-Adressen: Example how to type in 2 different e-mail addresses: | C12: info@lvus.de; ergebnisse@lvus.de
A15: eMail-Kontrolle: | C15: check of the e-Mail address
A16: Ergebnis der Überprüfung: | B16: =IF(ISBLANK(B15),"",IF(B3=B15,"Kontrolle erfolgreich - check ok","FEHLER - ERROR")) | C16: result of the control
B17: =IF(ISBLANK(B15),"",IF(ISERROR(FIND("@",B15,1)),"keine gültige eMail-Adresse",IF((VALUE(FIND("@",B15,1))>1),"","keine gültige eMail-Adresse!")))
B18: =IF(ISBLANK(B15),"",IF(ISERROR(FIND("@",B15,1)),"no valid eMail-adress",IF((VALUE(FIND("@",B15,1))>1),"","no valid eMail-address!")))
B19: =IF(ISBLANK(B15),"",IF(ISERROR(FIND("; ",B15,1)),"",IF((VALUE(FIND("; ",B15,1))>8),"","Achtung - die zweite eMail-Adresse wurde nicht korrekt eingegeben")))

Sheet Teilnehmerdaten
A1: Kundennummer | B1: =IF(ISNUMBER(VALUE(ErgebnisseProtein!G1)),IF(VALUE(ErgebnisseProtein!G1)>0,VALUE(ErgebnisseProtein!G1),""),"") | D1: Umformung
A2: Postleitzahl | B2: =IF(ISNUMBER(VALUE(ErgebnisseProtein!G2)),IF(VALUE(ErgebnisseProtein!G2)>0,VALUE(ErgebnisseProtein!G2),""),"")
A3: Produkt | B3: 32b | D3: Auswahl
A4: Jahrgang | B4: =YEAR(ErgebnisseProtein!E5) -> 2026 | D4: 2
A5: Update | B5: =D8 -> N | D5: =IF(D4=2,"N","J") -> N | F5: 1 | G5: ja / yes
A6: Teilnahmen | B6: =ErgebnisseProtein!G3 -> 1 | F6: 2 | G6: nein / no
A7: Deadline | B7: =ErgebnisseProtein!E5 -> 46348
A8: Parameterzahl | B8: 25 | D8: =LEFT(D5,1) -> N
A9: Bestimmungen je Parameter | B9: 2
A10: Kontaktname | B10: =Kontakt!B2 -> 0
A11: Mailadresse | B11: =IF(Kontakt!B3=Kontakt!B15,Kontakt!B3,0) -> 0
A12: Zertifikat geeignet | B12: 1
A13: Parameter 1 | B13: =ErgebnisseProtein!A16 -> Erbse
A14: Parameter 2 | B14: =ErgebnisseProtein!A18 -> Lupine
A15: Parameter 3 | B15: =ErgebnisseProtein!A20 -> Sesam
A16: Parameter 4 | B16: =ErgebnisseProtein!A22 -> Mandel
A17: Parameter 5 | B17: =ErgebnisseProtein!A24 -> Erdnuss
A18: Parameter 6 | B18: =ErgebnisseProtein!A26 -> Haselnuss
A19: Parameter 7 | B19: =ErgebnisseProtein!A28 -> Paranuss
A20: Parameter 8 | B20: =ErgebnisseProtein!A30 -> Walnuss
A21: Parameter 9 | B21: =ErgebnisseProtein!A32 -> Macadamianuss
A22: Parameter 10 | B22: =ErgebnisseProtein!A37 -> Pistazien
A23: Parameter 11 | B23: =ErgebnisseProtein!A39 -> Fisch (Differenzierung unmöglich)
A24: Parameter 12 | B24: =ErgebnisseProtein!A41 -> Kabeljau (Gadus morhua)
A25: Parameter 13 | B25: =ErgebnisseProtein!A43 -> Tintenfisch
A26: Parameter 14 | B26: =ErgebnisseProtein!A45 -> Shrimps
A27: Parameter 15 | B27: =ErgebnisseProtein!A47 -> Senf (Differenzierung unmöglich)
A28: Parameter 16 | B28: =ErgebnisseProtein!A49 -> Senf, weiß/gelb (Sinapis alba)
A29: Parameter 17 | B29: =ErgebnisseProtein!A51 -> Senf, braun /schwarz (Brassica)
A30: Parameter 18 | B30: =ErgebnisseProtein!A53 -> Gluten
A31: Parameter 19 | B31: =ErgebnisseProtein!A55 -> Soja
A32: Parameter 20 | B32: =ErgebnisseProtein!A58 -> Sellerie
A33: Parameter 21 | B33: =ErgebnisseProtein!A60 -> Ei (vom Huhn) - Zutat!
A34: Parameter 22 | B34: =ErgebnisseProtein!A62 -> Milchprotein, allgemein
A35: Parameter 23 | B35: =ErgebnisseProtein!A64 -> Molkenprotein
A36: Parameter 24 | B36: =ErgebnisseProtein!A66 -> Casein
A37: Parameter 25 | B37: =ErgebnisseProtein!A68 -> Lactose

Sheet ErgebnisseMolekular
A1: Ergebnisdatenblatt (Resultsheet) | E1: Kunden-Nr. (Client-Nb.) | G1: ?
A2: Allergene (molekularbiologische Verfahren) | E2: Postleitzahl (ZIP-Code) | G2: ?
A3: Brühwurst | E3: interne Teilnahme: | G3: 1 | H3: V.1
A4: Einsendeadresse: | B4: ergebnisse@lvus.de | E4: =MAX(Bezug!A3:A32)-1 -> 27 | F4: =MAX('DNA-Extraktion'!$A$4:$A$20)-1 -> 16 | G4: =IF(G1="?","",IF(ISNUMBER(VALUE(G1)),"","Bitte nur Ziffern eingeben (numbers only)"))
A5: Annahmeschluss/Deadline: | E5: 46348 | G5: =IF(G2="?","",IF(ISNUMBER(VALUE(G2)),"","Bitte nur Ziffern eingeben (numbers only)"))
A7: Bitte werten Sie Ihre Messergebnisse aus und teilen Sie daraufhin je Untersuchungsparameter und Probe genau ein einziges zusammengefasstes Untersuchungsergebnis (Beurteilungsergebnis) mit. Geben Sie dazu über die Auswahlmenüs Ihre qualitativen Ergebnisse an. Bei nicht nachweisbaren Parameter kreuzen Sie bitte „negativ“ und bei zweifelhaften Ergebnissen (Spur, im Bereich der Nachweisgrenze des angewendeten Verfahrens) wählen Sie „unsicher“ aus. Beim eindeutigen Nachweis eines Allergens in der Probe wählen Sie bitte „positiv“.
A8: Falls Sie einen Parameter "negativ" beurteilen, geben Sie bitte die entsprechende Nachweisgrenze des Verfahrens mit vorangestelltem "< " an - bei Beurteilung "positiv" entsprechend mit vorangestelltem "> ". Sofern Sie ein quantitatives Verfahren einsetzen, geben Sie bitte den in der Proben festgestellten Gehalt an. Bei Gehalten über 10 mg/kg sollen die Ergebnisse mit drei und unter 10 mg/kg mit zwei signifikanten Ziffern angegeben werden.
A9: Sofern es Ihre Verfahren ermöglichen, führen Sie bitte Beurteilungen der Ergebnisse mit positivem Befund durch (diese Beurteilungen werden nicht bewertet, sondern lediglich informativ aufgeführt). Unterscheiden Sie hierzu bitte, ob unter Berücksichtigung der Messunsicherheit der Beurteilungswert (oder ggf. Grenzwert bei Gluten) des jeweiligen Allergens gesichert überschritten oder unterschritten ist. Liegt das Ergebnis im Streubereich des Beurteilungswertes (Messwert im Bereich Beurteilungswert ± Messunsicherheit), wählen Sie bitte „positiv, Streubereich des Beurteilungswerts“ aus.
A10: Tragen Sie die Codes mit den Angaben zu den Verfahrensprinzipien und zur Durchführung in die gelb hinterlegten Felder ein (nur bei gelb hinterlegten Feldern werden Eingaben erwartet, bitte keine Eingaben bei grauen Feldern). Die entsprechenden Codes finden Sie in den entsprechend bezeichneten separaten Datenblättern und auf den zusammen mit den Proben versendeten Ergebnisdatenblättern. Falls ein von Ihnen angewendetes Verfahrensprinzip, eine Bezugsquelle oder die näher spezifizierte Durchführung in den Listen noch fehlen sollten, ergänzen Sie die Daten bitte im Bereich der Buchstaben und geben dann beim jeweiligen Parameter den bei der Ergänzung stehenden Buchstaben an.
A11: Beim Parameter Lactose erfolgt die Auswahl des angewendeten Verfahrens abweichend über ein Auswahlmenü. Sollten Sie Ihre Verfahren dabei nicht finden, wählen Sie bitte "Sonstiges" aus und geben Sie Ihr Verfahren anschließend in das vorgesehene Feld ein.
A12: Falls Sie einen Parameter nicht bearbeiten, lassen Sie die zugehörigen Ergebnisdatenfelder bitte leer. If You are not analysing parameters in Your laboratory do not write anything into the corresponding fields for the results.
A13: =IF(OR(OR(G1="?",ISBLANK(G1)),OR(G2="?",ISBLANK(G2))),"Die Tabelle ist so nicht versandfertig. Es fehlen noch Eingaben bei Kunden-Nr. und/oder Postleitzahl.","Wichtig: Sind Ihre Eingaben bei Kunden-Nr. und Postleitzahl korrekt?") -> Die Tabelle ist so nicht versandfertig. Es fehlen noch Eingaben bei Kunden-Nr. und/oder Postleitzahl.
A14: Tabelle wurde bereits einmal erfolgreich gesendet, es handelt sich um eine Aktualisierung:
A15: Parameter | B15: Ergebnis (molekularbiologische V.) | D15: Verfahrens- prinzip | E15: Bezugsquelle | F15: Bezugs- Code | G15: Durch-führung | H15: DNA-Extraktion
A16: Erbse | B16: 4 | E16: 28 | H16: 19
A17: Gehalt [mg/kg]
A18: Lupine | B18: 7 | E18: 28 | H18: 19
A19: Gehalt [mg/kg]
A20: Sesam | B20: 7 | E20: 28 | H20: 17
A21: Gehalt [mg/kg] (als Sesamsamen)
A22: Mandel | B22: 7 | E22: 28 | H22: 19
A23: Gehalt [mg/kg]
A24: Erdnuss | B24: 7 | E24: 28 | H24: 19
A25: Gehalt [mg/kg]
A26: Haselnuss | B26: 7 | E26: 28 | H26: 19
A27: Gehalt [mg/kg]
A28: Paranuss | B28: 7 | E28: 28 | H28: 0
A29: Gehalt [mg/kg]
A30: Walnuss | B30: 7 | E30: 28 | H30: 0
A31: Gehalt [mg/kg]
A32: Macadamianuss | B32: 7 | E32: 28 | H32: 19
A33: Gehalt [mg/kg]
A34: Cashewnuss | B34: 7 | E34: 28 | H34: 19
A35: Gehalt [mg/kg]
A36: Parameter | B36: Ergebnis (molekularbiologische V.) | D36: Verfahrens- prinzip | E36: Bezugsquelle | F36: Bezugs- Code | G36: Durch-führung | H36: DNA-Extraktion
A37: Pistazien | B37: 7 | E37: 28 | H37: 19
A38: Gehalt [mg/kg]
A39: Fisch (Differenzierung unmöglich) | B39: 7 | E39: 28 | H39: 19
A40: Gehalt [mg/kg]
A41: Kabeljau (Gadus morhua) | B41: 7 | E41: 28 | H41: 19
A42: Gehalt [mg/kg] (als Fischfilet)
A43: Tintenfisch | B43: 7 | E43: 28 | H43: 19
A44: Gehalt [mg/kg]
A45: Shrimps | B45: 7 | E45: 28 | H45: 19
A46: Gehalt [mg/kg]
A47: Senf (Differenzierung unmöglich) | B47: 7 | E47: 28 | H47: 19
A48: Gehalt [mg/kg] (als Senfmehl)
A49: Senf, weiß/gelb (Sinapis alba) | B49: 7 | E49: 28 | H49: 19
A50: Gehalt [mg/kg] (als Senfmehl)
A51: Senf, braun /schwarz (Brassica) | B51: 7 | E51: 28 | H51: 19
A52: Gehalt [mg/kg] (als Senfmehl)
A53: Gluten | B53: 10 | E53: 28 | H53: 19
A54: Gehalt [mg/kg]
A55: Soja | B55: 7 | E55: 28 | H55: 19
A56: Gehalt [mg/kg] (Sojamehl, 40 % Protein)
A57: Parameter | B57: Ergebnis (molekularbiologische V.) | D57: Verfahrens- prinzip | E57: Bezugsquelle | F57: Bezugs- Code | G57: Durch-führung | H57: DNA-Extraktion
A58: Sellerie | B58: 7 | E58: 28 | H58: 19
A59: Gehalt [mg/kg] (als Selleriesaat)
A60: Ei (vom Huhn) - Zutat! | B60: 7 | E60: 28 | H60: 19
A61: Gehalt [mg/kg] (als Volleipulver)
A62: Milchprotein, allgemein | B62: 7 | E62: 28 | H62: 19
A63: Gehalt [mg/kg] (Magermilchpulver)
A64: Molkenprotein | B64: 7 | E64: 28 | H64: 19
A65: Gehalt [mg/kg] (als ß-Lactoglobulin)
A66: Casein | B66: 7 | E66: 28 | H66: 19
A67: Gehalt [mg/kg]
A68: Lactose | B68: 4 | D68: =Lactose!B1 -> 22 | E68: =Lactose!C1 -> 21 | F68: =ISBLANK(VLOOKUP(D68,Lactose!A3:C24,3)) -> TRUE
A69: Gehalt, wasserfrei [mg/kg]
A71: Beschreibung des verwendeten Analysenverfahrens für Lactose
A73: Wählen Sie über das Auswahl-Menü Ihr Aufarbeitungsverfahren aus. Sollte dieses nicht in der Auswahl enthalten sein, wählen Sie bitte "sonstiges" aus und geben Sie Ihr Verfahren ein.
A75: Lactose
A76: =IF(D68=E68,"bitte eingeben:",IF(F68,"","Art der Modifikation:"))

Sheet ErgebnisseProtein
A1: Ergebnisdatenblatt (Resultsheet) | E1: Kunden-Nr. (Client-Nb.) | G1: =IF(OR(ErgebnisseMolekular!G1="?",ISBLANK(ErgebnisseMolekular!G1)),"Bitte bei ErgebnisseMolekular angeben",ErgebnisseMolekular!G1) -> Bitte bei ErgebnisseMolekular angeben
A2: Allergene (Protein-basierende Verfahren) | E2: Postleitzahl (ZIP-Code) | G2: =IF(OR(ErgebnisseMolekular!G2="?",ISBLANK(ErgebnisseMolekular!G2)),"Bitte bei ErgebnisseMolekular angeben",ErgebnisseMolekular!G2) -> Bitte bei ErgebnisseMolekular angeben
A3: =ErgebnisseMolekular!A3 -> Brühwurst | E3: interne Teilnahme: | G3: =ErgebnisseMolekular!G3 -> 1 | H3: =ErgebnisseMolekular!H3 -> V.1
A4: Einsendeadresse: | B4: ergebnisse@lvus.de
A5: Annahmeschluss/Deadline: | E5: =ErgebnisseMolekular!E5 -> 46348
B6: =MAX(Ergebnis!A3:A9) -> 7 | E6: =MAX(Bezug!A3:A32)-1 -> 27 | H6: =MAX(#REF!)-1 -> #REF!
A7: Bitte werten Sie Ihre Messergebnisse aus und teilen Sie daraufhin je Untersuchungsparameter und Probe genau ein einziges zusammengefasstes Untersuchungsergebnis (Beurteilungsergebnis) mit. Geben Sie dazu über die Auswahlmenüs Ihre qualitativen Ergebnisse an. Bei nicht nachweisbaren Parameter kreuzen Sie bitte „negativ“ und bei zweifelhaften Ergebnissen (Spur, im Bereich der Nachweisgrenze des angewendeten Verfahrens) wählen Sie „unsicher“ aus. Beim eindeutigen Nachweis eines Allergens in der Probe wählen Sie bitte „positiv“.
A8: Falls Sie einen Parameter "negativ" beurteilen, geben Sie bitte die entsprechende Nachweisgrenze des Verfahrens mit vorangestelltem "< " an - bei Beurteilung "positiv" entsprechend mit vorangestelltem "> ". Sofern Sie ein quantitatives Verfahren einsetzen, geben Sie bitte den in der Proben festgestellten Gehalt an. Bei Gehalten über 10 mg/kg sollen die Ergebnisse mit drei und unter 10 mg/kg mit zwei signifikanten Ziffern angegeben werden.
A9: Sofern es Ihre Verfahren ermöglichen, führen Sie bitte Beurteilungen der Ergebnisse mit positivem Befund durch (diese Beurteilungen werden nicht bewertet, sondern lediglich informativ aufgeführt). Unterscheiden Sie hierzu bitte, ob unter Berücksichtigung der Messunsicherheit der Beurteilungswert (oder ggf. Grenzwert) des jeweiligen Allergens gesichert überschritten oder unterschritten ist. Liegt das Ergebnis im Streubereich des Beurteilungswertes (Messwert im Bereich Beurteilungswert ± Messunsicherheit), wählen Sie bitte „positiv, Streubereich des Beurteilungswerts“ aus.
A10: Tragen Sie die Codes mit den Angaben zu den Verfahrensprinzipien und zur Durchführung in die gelb hinterlegten Felder ein (nur bei gelb hinterlegten Feldern werden Eingaben erwartet, bitte keine Eingaben bei grauen Feldern). Die entsprechenden Codes finden Sie in den entsprechend bezeichneten separaten Datenblättern und auf den zusammen mit den Proben versendeten Ergebnisdatenblättern. Falls ein von Ihnen angewendetes Verfahrensprinzip, eine Bezugsquelle oder die näher spezifizierte Durchführung in den Listen noch fehlen sollten, ergänzen Sie die Daten bitte im Bereich der Buchstaben und geben dann beim jeweiligen Parameter den bei der Ergänzung stehenden Buchstaben an.
A11: Beim Parameter Lactose erfolgt die Auswahl des angewendeten Verfahrens abweichend über ein Auswahlmenü. Sollten Sie Ihre Verfahren dabei nicht finden, wählen Sie bitte "sonstiges" aus und geben Sie Ihr Verfahren anschließend in das vorgesehene Feld ein.
A12: Falls Sie einen Parameter nicht bearbeiten, lassen Sie die zugehörigen Ergebnisdatenfelder bitte leer. If You are not analysing parameters in Your laboratory do not write anything into the corresponding fields for the results.
A13: =IF(OR(OR(G1="?",ISBLANK(G1)),OR(G2="?",ISBLANK(G2))),"Die Tabelle ist so nicht versandfertig. Es fehlen noch Eingaben bei Kunden-Nr. und/oder Postleitzahl.","Wichtig: Sind Ihre Eingaben bei Kunden-Nr. und Postleitzahl korrekt?") -> Wichtig: Sind Ihre Eingaben bei Kunden-Nr. und Postleitzahl korrekt?
A14: Tabelle wurde bereits einmal erfolgreich gesendet, es handelt sich um eine Aktualisierung:
A15: Parameter | B15: Ergebnis (Protein-basierend) | D15: Verfahrens- prinzip | E15: Bezugsquelle | F15: Bezugs- Code | G15: Durch-führung | H15: Hinweis
A16: Erbse | B16: 4 | E16: 28
A17: Gehalt [mg/kg]
A18: Lupine | B18: 7 | E18: 28
A19: Gehalt [mg/kg]
A20: Sesam | B20: 7 | E20: 28
A21: Gehalt [mg/kg] (als Sesamsamen)
A22: Mandel | B22: 7 | E22: 28
A23: Gehalt [mg/kg]
A24: Erdnuss | B24: 7 | E24: 28
A25: Gehalt [mg/kg]
A26: Haselnuss | B26: 7 | E26: 28
A27: Gehalt [mg/kg]
A28: Paranuss | B28: 7 | E28: 28
A29: Gehalt [mg/kg]
A30: Walnuss | B30: 7 | E30: 28
A31: Gehalt [mg/kg]
A32: Macadamianuss | B32: 7 | E32: 28
A33: Gehalt [mg/kg]
A34: Cashewnuss | B34: 7 | E34: 28
A35: Gehalt [mg/kg]
A36: Parameter | B36: Ergebnis (Protein-basierend) | D36: Verfahrens- prinzip | E36: Bezugsquelle | F36: Bezugs- Code | G36: Durch-führung | H36: Hinweis
A37: Pistazien | B37: 7 | E37: 28
A38: Gehalt [mg/kg]
A39: Fisch (Differenzierung unmöglich) | B39: 7 | E39: 28
A40: Gehalt [mg/kg]
A41: Kabeljau (Gadus morhua) | B41: 7 | E41: 28
A42: Gehalt [mg/kg] (als Fischfilet)
A43: Tintenfisch | B43: 7 | E43: 28
A44: Gehalt [mg/kg]
A45: Shrimps | B45: 7 | E45: 28
A46: Gehalt [mg/kg]
A47: Senf (Differenzierung unmöglich) | B47: 7 | E47: 28
A48: Gehalt [mg/kg] (als Senfmehl)
A49: Senf, weiß/gelb (Sinapis alba) | B49: 7 | E49: 28
A50: Gehalt [mg/kg] (als Senfmehl)
A51: Senf, braun /schwarz (Brassica) | B51: 7 | E51: 28
A52: Gehalt [mg/kg] (als Senfmehl)
A53: Gluten | B53: 10 | E53: 28
A54: Gehalt [mg/kg]
A55: Soja | B55: 7 | E55: 28
A56: Gehalt [mg/kg] (Sojamehl, 40 % Protein)
A57: Parameter | B57: Ergebnis (Protein-basierend) | D57: Verfahrens- prinzip | E57: Bezugsquelle | F57: Bezugs- Code | G57: Durch-führung | H57: Hinweis
A58: Sellerie | B58: 7 | E58: 28
A59: Gehalt [mg/kg] (als Selleriesaat)
A60: Ei (vom Huhn) - Zutat! | B60: 7 | E60: 28
A61: Gehalt [mg/kg] (als Volleipulver)
A62: Milchprotein, allgemein | B62: 7 | E62: 28
A63: Gehalt [mg/kg] (Magermilchpulver)
A64: Molkenprotein | B64: 7 | E64: 28
A65: Gehalt [mg/kg] (als ß-Lactoglobulin)
A66: Casein | B66: 7 | E66: 28
A67: Gehalt [mg/kg]
A68: Lactose | B68: 4 | D68: =Lactose!B1 -> 22 | E68: =Lactose!C1 -> 21 | F68: =ISBLANK(VLOOKUP(D68,Lactose!A3:C24,3)) -> TRUE
A69: Gehalt, wasserfrei [mg/kg]
A71: Beschreibung des verwendeten Analysenverfahrens für Lactose
A73: Wählen Sie über das Auswahl-Menü Ihr Aufarbeitungsverfahren aus. Sollte dieses nicht in der Auswahl enthalten sein, wählen Sie bitte "sonstiges" aus und geben Sie Ihr Verfahren ein.
A75: Lactose
A76: =IF(D68=E68,"bitte eingeben:",IF(F68,"","Art der Modifikation:"))

Sheet Mitteilungen
A1: Nachfolgend können Sie uns ergänzende Hinweise geben oder wichtige Beobachtungen mitteilen. | H1: =COUNTA(A2:G38) -> 0

Sheet Ergebnis qualitativ
A2: Ergebnis | B2: Erläuterung
A4: Allergene mit Beurteilungswerten
A5: negativ | B5: Das Allergen ist nicht in der Probe enthalten
A6: unsicher (zweifelhaftes Ergebnis) | B6: Das Testergebnis ist weder eindeutig positiv noch eindeutig negativ (im Bereich der Erfassungsgrenze)
A7: positiv (Ergebnis ohne weitere Bewertung) | B7: Das Allergen ist sicher nachgewiesen. Aus internen Gründen erfolgt keine Aussage bezüglich Gehalt in der Probe und Beurteilungswert
A8: positiv, sicher unterhalb Beurteilungswert | B8: Das Allergen ist sicher nachgewiesen und der festgestellte Gehalt liegt unter Berücksichtigung der Messunsicherheit des Verfahrens sicher unterhalb des Beurteilungswerts
A9: positiv, Streubereich des Beurteilungswerts | B9: Das Allergen ist sicher nachgewiesen und der festgestellte Gehalt liegt unter Berücksichtigung der Messunsicherheit des Verfahrens im Streubereich des Beurteilungswerts
A10: positiv, sicher oberhalb Beurteilungswert | B10: Das Allergen ist sicher nachgewiesen und der festgestellte Gehalt liegt unter Berücksichtigung der Messunsicherheit des Verfahrens sicher oberhalb des Beurteilungswerts
A13: Allergene ohne Beurteilungswerte
A14: negativ | B14: Das Allergen ist nicht in der Probe enthalten
A15: unsicher (zweifelhaftes Ergebnis) | B15: Das Testergebnis ist weder eindeutig positiv noch eindeutig negativ (im Bereich der Erfassungsgrenze)
A16: positiv (Ergebnis ohne weitere Bewertung) | B16: Das Allergen ist sicher nachgewiesen. Aus internen Gründen erfolgt keine Aussage bezüglich Gehalt in der Probe und Beurteilungswert
A19: Gluten
A20: negativ | B20: Gluten unterhalb der Nachweisgrenze des Verfahrens
A21: unsicher (zweifelhaftes Ergebnis) | B21: Das Testergebnis ist weder eindeutig positiv noch eindeutig negativ (im Bereich der Erfassungsgrenze)
A22: positiv (Ergebnis ohne Bewertung) | B22: Gluten positiv; Gluten ist in der Probe enthalten. Aus internen Gründen erfolgt keine Beurteilung des Gehaltes in Bezug auf den Grenz- oder Beurteilungswert
A23: positiv, sicher < Grenzwert 20 mg/kg | B23: Gluten positiv; Gehalt sicher unterhalb des Grenzwerts 20 mg/kg unter Berücksichtigung der Messunsicherheit des Verfahrens
A24: positiv, Streubereich Grenzwert 20 mg/kg | B24: Gluten positiv; Gehalt im Streubereich des Beurteilungswerts bei Berücksichtigung der Messunsicherheit des Verfahrens
A25: positiv, sicher > 20 mg/kg und < 50 mg/kg | B25: Gluten positiv; Gehalt sicher oberhalb des Grenzwerts 20 mg/kg für glutenfrei und kleiner des Beurteilungswerts 50 mg/kg bei Berücksichtigung der Messunsicherheit des Verfahrens
A26: positiv, Streubereich Beurteilungswert 50 mg/kg | B26: Gluten positiv; Gehalt im Streubereich des Beurteilungswerts 50 mg/kg bei Berücksichtigung der Messunsicherheit des Verfahrens
A27: positiv, sicher > 50 mg/kg | B27: Gluten positiv; Gehalt sicher oberhalb des Beurteilungswerts 50 mg/kg bei Berücksichtigung der Messunsicherheit des Verfahrens
A28: positiv, sicher > 50 mg/kg | B28: Gluten positiv; Gehalt sicher oberhalb des Beurteilungswerts 50 mg/kg bei Berücksichtigung der Messunsicherheit des Verfahrens
A30: Grenzwert für Glutenfreiheit: | B30: 20 mg/kg
A31: Beurteilungswert für Kennzeichnungspflicht Zutaten: | B31: 50 mg/kg

Sheet Prinzipien
A1: Vordefinierte Prinzipien der angewendeten Verfahren
A3: lfd. Nummer | B3: Prinzip
A4: 1 | B4: ELISA
A5: 2 | B5: Real-Time PCR
A6: 3 | B6: PCR
A7: 4 | B7: Multiplex Real-time PCR
A8: 5 | B8: Multiplex PCR
A9: 6 | B9: LC-MS/MS
A10: 7 | B10: NGS
A11: 8 | B11: Metabarcoding
A12: 9 | B12: ddPCR
A13: 10 | B13: Immunologisch mit Teststrips
A14: 11 | B14: Sonstiges (Bitte Prinzip unten aufführen)
A18: Falls Sie Ihr Verfahrensprinzip nicht unter den vordefinierten finden, so ergänzen Sie bitte Ihr(e) Prinzip(ien) in der
A19: nachfolgenden Tabelle und verwenden Sie die zugehörigen Codes beim entsprechenden Parameter.
A21: lfd.Buchstabe | B21: Bezeichnung des Sonstigen Prinzips
A22: A
A23: B
A24: C
A25: D
A26: E
A27: F
A28: G
A29: H
A30: I
A31: J
A32: K

Sheet Bezugsquellen
A1: Vordefinierte Bezugsquellen
A3: lfd. Nummer | B3: Bezugsquelle
A4: 1 | B4: Nicht kommerziell
A5: 2 | B5: r-biopharm
A6: 3 | B6: TIBMOLBIOL
A7: 4 | B7: Congen
A8: 5 | B8: Neogene
A9: 6 | B9: ELISA Systems
A10: 7 | B10: Oxoid
A11: 8 | B11: Koeppel / Microsynth
A12: 9 | B12: Transia
A13: 10 | B13: GEN-IAL
A14: 11 | B14: Romer Labs AgraQuant
A15: 12 | B15: Morinaga
... A30: 27 | B30: Sonstige (bitte Bezugsquelle unten aufführen)
A33: Falls Sie Ihre Bezugsquelle nicht unter den vordefinierten finden, so wählen Sie "sonstige" aus und ergänzen Ihre Bezugsquelle in der
A34: nachfolgenden Tabelle und verwenden Sie die zugehörigen Codes beim entsprechenden Parameter in der Spalte "Code".
A36: lfd.Buchstabe | B36: Sonstige Bezugsquelle
A37: A
A38: B
A39: C
A40: D
A41: E
A42: F
A43: G
A44: H
A45: I
A46: J
A47: K

Sheet Durchführungen
A1: Vordefinierte Versuchdurchführungen bzw. Methodenbeschreibungen
A3: lfd.Nummer | B3: Beschreibung des Durchführungsverfahrens
A4: 1 | B4: Durchführung nach Testanleitung
A5: 2 | B5: Hausmethode (Eigenentwicklung)
A6: 3 | B6: § 64 LFGB Nr. L 00.00-105
A7: 4 | B7: § 64 LFGB Nr. L 00.00-167:2019-03
A8: 5 | B8: § 64 LFGB Nr. L 00.00-169
A9: 6 | B9: § 64 LFGB Nr. L 00.00-175
A10: 7 | B10: § 64 LFGB Nr. L 08.00-56 (DIN CEN/TS 15634-2:2012)
A11: 8 | B11: § 64 LFGB Nr. L 08.00-58(V)
A12: 9 | B12: § 64 LFGB Nr. L 08.00-59
A13: 10 | B13: § 64 LFGB Nr. L 08.00-64
A14: 11 | B14: § 64 LFGB Nr. L 08.00-65:2017-10
A15: 12 | B15: § 64 LFGB Nr. L 08.00-66
... A49: 46 | B49: Sonstige (Bitte Durchführung unten aufführen)
A51: Falls Sie Ihr Verfahren nicht unter den vordefinierten finden, so ergänzen Sie bitte Ihr(e) Verfahren
A52: in der nachfolgenden Tabelle und verwenden Sie die zugehörigen Codes beim entsprechenden Parameter.
A54: lfd.Buchstabe | B54: Bezeichnung des sonstigen Verfahrens
A55: A
A56: B
A57: C
A58: D
A59: E
A60: F
A61: G
A62: H
A63: I
A64: J
A65: K

Sheet Extraktion der DNA
A1: Vordefinierte Vorgehensweisen bei der DNA-Extraktion
A3: lfd.Nummer | B3: Beschreibung des Durchführungsverfahrens
A4: 1 | B4: kommerzieller DNA-Extraktionskit: (bitte angeben)
A5: 2 | B5: CTAB-Methode mit weiterer Aufreinigung (s. z.B. § 64 LFGB L 08.00-56)
A6: 3 | B6: CTAB-Präzipitationsmethode (s. z.B. § 64 LFGB, Methodenentwürfe Reis- und Weizenkeks)
A7: 4 | B7: CTAB, Proteinase K, Promega Wizard DNA CleanUp
A8: 5 | B8: nicht kommerzielles Kit auf Basis von Silicasäulchen
A9: 6 | B9: Nucleo Spin Food Kit von Macherey & Nagel
A10: 7 | B10: SureFood PREP Advanced, Protokoll 2, R-Biopharm (Congen)
A11: 8 | B11: SureFood PREP Basic
A12: 9 | B12: SureFood PREP Advanced, diverse Protokolle, R-Biopharm (Congen)
A13: 10 | B13: Wizard-Methode (SLMB)
A14: 11 | B14: NucleoMag® Food (Macherey-Nagel)
A15: 12 | B15: Maxwell RSC PureFood GMO and Authentication Kit
... A19: 16 | B19: Sonstige (bitte DNA-Extraktion unten aufführen)
A24: Falls Sie Ihr Verfahren zur Extraktion von DNA nicht unter den vordefinierten finden, so ergänzen Sie bitte Ihr(e) Verfahren
A25: in der nachfolgenden Tabelle und verwenden Sie die zugehörigen Codes beim entsprechenden Parameter.
A27: lfd.Buchstabe | B27: Beschreibung der sonstigen DNA-Extraktion Verfahrens
A28: A
A29: B
A30: C
A31: D
A32: E
A33: F
A34: G
A35: H
A36: I
A37: J
A38: K

Sheet DNA-Extraktion
A1: Vordefinierte Vorgehensweisen bei der DNA-Extraktion
A3: lfd.Nummer | B3: Beschreibung des Durchführungsverfahrens
A4: 1 | B4: kommerzieller DNA-Extraktionskit: (bitte angeben)
A5: 2 | B5: CTAB-Methode mit weiterer Aufreinigung (s. z.B. § 64 LFGB L 08.00-56)
A6: 3 | B6: CTAB-Präzipitationsmethode (s. z.B. § 64 LFGB, Methodenentwürfe Reis- und Weizenkeks)
A7: 4 | B7: CTAB, Proteinase K, Promega Wizard DNA CleanUp
A8: 5 | B8: nicht kommerzielles Kit auf Basis von Silicasäulchen
A9: 6 | B9: Nucleo Spin Food Kit von Macherey & Nagel
A10: 7 | B10: SureFood PREP Advanced, Protokoll 2, R-Biopharm (Congen)
A11: 8 | B11: SureFood PREP Basic
A12: 9 | B12: SureFood PREP Advanced, diverse Protokolle, R-Biopharm (Congen)
A13: 10 | B13: Wizard-Methode (SLMB)
A14: 11 | B14: NucleoMag® Food (Macherey-Nagel)
A15: 12 | B15: Maxwell RSC PureFood GMO and Authentication Kit
... A19: 16 | B19: Sonstige (bitte DNA-Extraktion unten aufführen)
A20: 17
A23: Falls Sie Ihr Verfahren zur Extraktion von DNA nicht unter den vordefinierten finden, so ergänzen Sie bitte Ihr(e) Verfahren
A24: in der nachfolgenden Tabelle und verwenden Sie die zugehörigen Codes beim entsprechenden Parameter.
A26: lfd.Buchstabe | B26: Bezeichnung des sonstigen Verfahrens
A27: A
A28: B
A29: C
A30: D
A31: E
A32: F
A33: G
A34: H
A35: I
A36: J
A37: K

Sheet Ergebnis
A2: Ergebnis | B2: Erläuterung
A3: 1 | B3: negativ | C3: Gluten unterhalb der Nachweisgrenze des Verfahrens
A4: 2 | B4: unsicher (zweifelhaftes Ergebnis) | C4: Das Testergebnis ist weder eindeutig positiv noch eindeutig negativ (im Bereich der Erfassungsgrenze)
A5: 3 | B5: positiv (Ergebnis ohne Bewertung) | C5: Gluten positiv; Gluten ist in der Probe enthalten. Aus internen Gründen erfolgt keine Beurteilung des Gehaltes in Bezug auf den Grenz- oder Beurteilungswert
A6: 4 | B6: positiv, sicher unterhalb Beurteilungswert
A7: 5 | B7: positiv, Streubereich des Beurteilungswerts
A8: 6 | B8: positiv, sicher oberhalb Beurteilungswert
A9: 7
B11: Allergene ohne Beurteilungswerte
A12: 1 | B12: negativ | C12: Das Allergen ist nicht in der Probe enthalten
A13: 2 | B13: unsicher (zweifelhaftes Ergebnis) | C13: Das Testergebnis ist weder eindeutig positiv noch eindeutig negativ (im Bereich der Erfassungsgrenze)
A14: 3 | B14: positiv (Ergebnis ohne weitere Bewertung) | C14: Das Allergen ist sicher nachgewiesen.
A15: 4
B17: Gluten
A18: 1 | B18: negativ | C18: Gluten unterhalb der Nachweisgrenze des Verfahrens
A19: 2 | B19: unsicher (zweifelhaftes Ergebnis) | C19: Das Testergebnis ist weder eindeutig positiv noch eindeutig negativ (im Bereich der Erfassungsgrenze)
A20: 3 | B20: positiv (Ergebnis ohne Bewertung) | C20: Gluten positiv; Gluten ist in der Probe enthalten. Aus internen Gründen erfolgt keine Beurteilung des Gehaltes in Bezug auf den Grenz- oder Beurteilungswert
A21: 4 | B21: positiv, sicher < Grenzwert 20 mg/kg | C21: Gluten positiv; Gehalt sicher unterhalb des Grenzwerts 20 mg/kg unter Berücksichtigung der Messunsicherheit des Verfahrens
A22: 5 | B22: positiv, Streubereich Grenzwert 20 mg/kg | C22: Gluten positiv; Gehalt im Streubereich des Beurteilungswerts bei Berücksichtigung der Messunsicherheit des Verfahrens
A23: 6 | B23: positiv, sicher > 20 mg/kg und < 50 mg/kg | C23: Gluten positiv; Gehalt sicher oberhalb des Grenzwerts 20 mg/kg für glutenfrei und kleiner des Beurteilungswerts 50 mg/kg bei Berücksichtigung der Messunsicherheit des Verfahrens
A24: 7 | B24: positiv, Streubereich Beurteilungswert 50 mg/kg | C24: Gluten positiv; Gehalt im Streubereich des Beurteilungswerts 50 mg/kg bei Berücksichtigung der Messunsicherheit des Verfahrens
A25: 8 | B25: positiv, sicher > 50 mg/kg | C25: Gluten positiv; Gehalt sicher oberhalb des Beurteilungswerts 50 mg/kg bei Berücksichtigung der Messunsicherheit des Verfahrens
A26: 9

Sheet Bezug
C1: =MAX($A$3:$A$32)-1 -> 27
A2: Code | B2: Bezugsquelle
A3: 1 | B3: Nicht kommerziell
A4: 2 | B4: r-biopharm
A5: 3 | B5: TIBMOLBIOL
A6: 4 | B6: Congen
A7: 5 | B7: Neogene
A8: 6 | B8: ELISA Systems
A9: 7 | B9: Oxoid
A10: 8 | B10: Koeppel / Microsynth
A11: 9 | B11: Transia
A12: 10 | B12: GEN-IAL
A13: 11 | B13: Romer Labs AgraQuant
A14: 12 | B14: Morinaga
... A29: 27 | B29: Sonstige (bitte Bezugsquelle unten aufführen)
A30: 28

Sheet Prinzip
B1: 5 | C1: =MAX($A$3:$A$7)-1 -> 4
A2: Methode | B2: Bezeichnung des Analysenverfahrens | C2: Anzahl
A3: 1 | B3: ELISA
A4: 2 | B4: Real-Time PCR
A5: 3 | B5: PCR
A6: 4 | B6: Multiplex Real-time PCR
A7: 5 | B7: Multiplex PCR
A8: 6 | B8: LC-MS/MS
A9: 7 | B9: NGS
A10: 8 | B10: Metabarcoding
A11: 9 | B11: ddPCR
A12: 10 | B12: Immunologisch mit Teststrips
A13: 11 | B13: Sonstiges (Bitte Prinzip unten aufführen)
A14: 12

Sheet Durchführung
B1: 5 | C1: =MAX(A3:A48)-1 -> 45
A2: Methode | B2: Bezeichnung des Analysenverfahrens
A3: 1 | B3: Durchführung nach Testanleitung
A4: 2 | B4: Hausmethode (Eigenentwicklung)
A5: 3 | B5: § 64 LFGB Nr. L 00.00-105
A6: 4 | B6: § 64 LFGB Nr. L 00.00-167:2019-03
A7: 5 | B7: § 64 LFGB Nr. L 00.00-169
A8: 6 | B8: § 64 LFGB Nr. L 00.00-175
A9: 7 | B9: § 64 LFGB Nr. L 08.00-56 (DIN CEN/TS 15634-2:2012)
A10: 8 | B10: § 64 LFGB Nr. L 08.00-58
A11: 9 | B11: § 64 LFGB Nr. L 08.00-59
A12: 10 | B12: § 64 LFGB Nr. L 08.00-64
A13: 11 | B13: § 64 LFGB Nr. L 08.00-65:2017-10
A14: 12 | B14: § 64 LFGB Nr. L 08.00-66
... A48: 46 | B48: Sonstige (Bitte Durchführung unten aufführen)
A49: 47

Sheet Lactose
A1: Lactose | B1: 22 | C1: =MAX($A$3:$A$24)-1 -> 21
A2: Methode | B2: Bezeichnung des Analysenverfahrens | C2: Anzahl
A3: 1 | B3: § 64 LFGB Nr. L 44.00-6
A4: 2 | B4: § 64 LFGB Nr. L 44.00-6, modifiziert | C4: x
A5: 3 | B5: § 64 LFGB Nr. L 07.00-23
A6: 4 | B6: § 64 LFGB Nr. L 07.00-23, modifiziert | C6: x
A7: 5 | B7: § 64 LFGB Nr. L 08.00-24
A8: 6 | B8: § 64 LFGB Nr. L 08.00-24, modifiziert | C8: x
A9: 7 | B9: Enzymatisch nach r-biopharm / roche 10 176 303 035 (Lac/Galac)
A10: 8 | B10: Enzymatisch nach r-biopharm 10 986 119 035
A11: 9 | B11: Enzymatisch (Enzytec r-biopharm: E8110 / E8120)
A12: 10 | B12: Enzymatisch nach SCIL 200 086
A13: 11 | B13: EnzymeFast Lactose, Firma ifp Institut für Produktqualität
A14: 12 | B14: Enzymatisch (Megazyme K-LACGAR-02/21)
A15: 13 | B15: HPLC (diverse Detektoren)
A16: 14 | B16: Polarimetrisch nach Thieler: ZLUF 80 440-449 (1940)
A17: 15 | B17: Ionenchromatographie nach Carrez-Klärung
A18: 16 | B18: HPLC auf Kationenaustauscher mit Bleibelegung (analog 64 LFGB Nr. L 00.00-72: Bestimmung der Zuckeralkohole)
A19: 17 | B19: Hochleistungs-Anionen-Austausch Chromatographie mit gepulster amperometrischer Detektion
A20: 18 | B20: Ionenchromatographie (diverse Detektoren)
... A23: 21 | B23: Sonstiges (Bitte angeben)
A24: 22
